BEGIN:VCALENDAR
VERSION:2.0
PRODID:-//Goldgrube//myauktion.com//AT
CALSCALE:GREGORIAN
BEGIN:VEVENT
DTSTART:20260506T134000
DTEND:20260506T134030
LOCATION:Gewerbepark 13, 8562 Mooskirchen
DTSTAMP:20260423T012001
SUMMARY:MyAuktion: Ablauf Artikel Nr. 957630 Trendteam TV-Lowboard 14180150-01
URL;VALUE=URI:https://www.myauktion.com/versteigerung7660-position2443433-trendteam-tv-lowboard-14180150-01.php
DESCRIPTION:Unvollständig 2/2
UID:myauktion-7660-2443433
BEGIN:VALARM
ACTION:DISPLAY
DESCRIPTION:Unvollständig 2/2
TRIGGER:-PT10M
END:VALARM
END:VEVENT
END:VCALENDAR