BEGIN:VCALENDAR
VERSION:2.0
PRODID:-//Goldgrube//myauktion.com//AT
CALSCALE:GREGORIAN
BEGIN:VEVENT
DTSTART:20260506T151900
DTEND:20260506T151930
LOCATION:Gewerbepark 13, 8562 Mooskirchen
DTSTAMP:20260423T041111
SUMMARY:MyAuktion: Ablauf Artikel Nr. 958058 Schaper Schapfix Collar soft L/12cm schwarz 
URL;VALUE=URI:https://www.myauktion.com/versteigerung7660-position2443434-schaper-schapfix-collar-soft-l-12cm-schwarz.php
DESCRIPTION:
UID:myauktion-7660-2443434
BEGIN:VALARM
ACTION:DISPLAY
DESCRIPTION:
TRIGGER:-PT10M
END:VALARM
END:VEVENT
END:VCALENDAR