BEGIN:VCALENDAR
VERSION:2.0
PRODID:-//Goldgrube//myauktion.com//AT
CALSCALE:GREGORIAN
BEGIN:VEVENT
DTSTART:20260506T134600
DTEND:20260506T134630
LOCATION:Gewerbepark 13, 8562 Mooskirchen
DTSTAMP:20260423T012000
SUMMARY:MyAuktion: Ablauf Artikel Nr. 957632 Schaper Schapfix Collar soft SC054 S 4cm 
URL;VALUE=URI:https://www.myauktion.com/versteigerung7660-position2443440-schaper-schapfix-collar-soft-sc054-s-4cm.php
DESCRIPTION:
UID:myauktion-7660-2443440
BEGIN:VALARM
ACTION:DISPLAY
DESCRIPTION:
TRIGGER:-PT10M
END:VALARM
END:VEVENT
END:VCALENDAR