BEGIN:VCALENDAR
VERSION:2.0
PRODID:-//Goldgrube//myauktion.com//AT
CALSCALE:GREGORIAN
BEGIN:VEVENT
DTSTART:20260506T152900
DTEND:20260506T152930
LOCATION:Gewerbepark 13, 8562 Mooskirchen
DTSTAMP:20260423T041109
SUMMARY:MyAuktion: Ablauf Artikel Nr. 958061 Schaper Schapfix Collar soft L/10cm schwarz 
URL;VALUE=URI:https://www.myauktion.com/versteigerung7660-position2443442-schaper-schapfix-collar-soft-l-10cm-schwarz.php
DESCRIPTION:
UID:myauktion-7660-2443442
BEGIN:VALARM
ACTION:DISPLAY
DESCRIPTION:
TRIGGER:-PT10M
END:VALARM
END:VEVENT
END:VCALENDAR