BEGIN:VCALENDAR
VERSION:2.0
PRODID:-//Goldgrube//myauktion.com//AT
CALSCALE:GREGORIAN
BEGIN:VEVENT
DTSTART:20260506T135300
DTEND:20260506T135330
LOCATION:Gewerbepark 13, 8562 Mooskirchen
DTSTAMP:20260423T011950
SUMMARY:MyAuktion: Ablauf Artikel Nr. 957913 Glisseno Article: SC45.650 45mm Softclose-650mm 
URL;VALUE=URI:https://www.myauktion.com/versteigerung7660-position2443444-glisseno-article-sc45650-45mm-softclose-650mm.php
DESCRIPTION:
UID:myauktion-7660-2443444
BEGIN:VALARM
ACTION:DISPLAY
DESCRIPTION:
TRIGGER:-PT10M
END:VALARM
END:VEVENT
END:VCALENDAR