BEGIN:VCALENDAR
VERSION:2.0
PRODID:-//Goldgrube//myauktion.com//AT
CALSCALE:GREGORIAN
BEGIN:VEVENT
DTSTART:20260506T143600
DTEND:20260506T143630
LOCATION:Gewerbepark 13, 8562 Mooskirchen
DTSTAMP:20260423T011955
SUMMARY:MyAuktion: Ablauf Artikel Nr. 958024 Simba Rosenbauer Kinder Feuerwehrhelm 
URL;VALUE=URI:https://www.myauktion.com/versteigerung7660-position2443451-simba-rosenbauer-kinder-feuerwehrhelm.php
DESCRIPTION:
UID:myauktion-7660-2443451
BEGIN:VALARM
ACTION:DISPLAY
DESCRIPTION:
TRIGGER:-PT10M
END:VALARM
END:VEVENT
END:VCALENDAR