BEGIN:VCALENDAR
VERSION:2.0
PRODID:-//Goldgrube//myauktion.com//AT
CALSCALE:GREGORIAN
BEGIN:VEVENT
DTSTART:20260506T140400
DTEND:20260506T140430
LOCATION:Gewerbepark 13, 8562 Mooskirchen
DTSTAMP:20260423T011950
SUMMARY:MyAuktion: Ablauf Artikel Nr. 957920 April PPLite Multi- Purpose withe Paper A4 5x500 sheets 
URL;VALUE=URI:https://www.myauktion.com/versteigerung7660-position2443454-april-pplite-multi-purpose-withe-paper-a4-5x500-sheets.php
DESCRIPTION:<div>Verpackungen beschädigt </div>
UID:myauktion-7660-2443454
BEGIN:VALARM
ACTION:DISPLAY
DESCRIPTION:<div>Verpackungen beschädigt </div>
TRIGGER:-PT10M
END:VALARM
END:VEVENT
END:VCALENDAR