BEGIN:VCALENDAR
VERSION:2.0
PRODID:-//Goldgrube//myauktion.com//AT
CALSCALE:GREGORIAN
BEGIN:VEVENT
DTSTART:20260506T140700
DTEND:20260506T140730
LOCATION:Gewerbepark 13, 8562 Mooskirchen
DTSTAMP:20260423T041109
SUMMARY:MyAuktion: Ablauf Artikel Nr. 957921 XIVIRACK Rofos160 Auffaltbare Geschenkstaschen 43x33x13 
URL;VALUE=URI:https://www.myauktion.com/versteigerung7660-position2443455-xivirack-rofos160-auffaltbare-geschenkstaschen-43x33x13.php
DESCRIPTION:
UID:myauktion-7660-2443455
BEGIN:VALARM
ACTION:DISPLAY
DESCRIPTION:
TRIGGER:-PT10M
END:VALARM
END:VEVENT
END:VCALENDAR