BEGIN:VCALENDAR
VERSION:2.0
PRODID:-//Goldgrube//myauktion.com//AT
CALSCALE:GREGORIAN
BEGIN:VEVENT
DTSTART:20260506T141700
DTEND:20260506T141730
LOCATION:Gewerbepark 13, 8562 Mooskirchen
DTSTAMP:20260423T012000
SUMMARY:MyAuktion: Ablauf Artikel Nr. 957930  Sitzkissen Gelb ca 46x46
URL;VALUE=URI:https://www.myauktion.com/versteigerung7660-position2443465--sitzkissen-gelb-ca-46x46.php
DESCRIPTION:Gebraucht 
UID:myauktion-7660-2443465
BEGIN:VALARM
ACTION:DISPLAY
DESCRIPTION:Gebraucht 
TRIGGER:-PT10M
END:VALARM
END:VEVENT
END:VCALENDAR