BEGIN:VCALENDAR
VERSION:2.0
PRODID:-//Goldgrube//myauktion.com//AT
CALSCALE:GREGORIAN
BEGIN:VEVENT
DTSTART:20260506T150800
DTEND:20260506T150830
LOCATION:Gewerbepark 13, 8562 Mooskirchen
DTSTAMP:20260423T041110
SUMMARY:MyAuktion: Ablauf Artikel Nr. 958051 Inter Link Simon Roll Container Massivholz weiß 6Schubladen ca. 35x40x65cm 
URL;VALUE=URI:https://www.myauktion.com/versteigerung7660-position2443466-inter-link-simon-roll-container-massivholz-weiss-6schubladen-ca-35x40x65cm.php
DESCRIPTION:Verpackung verschmutzt
UID:myauktion-7660-2443466
BEGIN:VALARM
ACTION:DISPLAY
DESCRIPTION:Verpackung verschmutzt
TRIGGER:-PT10M
END:VALARM
END:VEVENT
END:VCALENDAR