BEGIN:VCALENDAR
VERSION:2.0
PRODID:-//Goldgrube//myauktion.com//AT
CALSCALE:GREGORIAN
BEGIN:VEVENT
DTSTART:20260506T133400
DTEND:20260506T133430
LOCATION:Gewerbepark 13, 8562 Mooskirchen
DTSTAMP:20260422T233755
SUMMARY:MyAuktion: Ablauf Artikel Nr. 957627 Komet Maschienensägeblatt 600x50x2.5mm 6ZpZ  10stk
URL;VALUE=URI:https://www.myauktion.com/versteigerung7660-position2443468-komet-maschienensaegeblatt-600x50x25mm-6zpz-10stk.php
DESCRIPTION:
UID:myauktion-7660-2443468
BEGIN:VALARM
ACTION:DISPLAY
DESCRIPTION:
TRIGGER:-PT10M
END:VALARM
END:VEVENT
END:VCALENDAR