BEGIN:VCALENDAR
VERSION:2.0
PRODID:-//Goldgrube//myauktion.com//AT
CALSCALE:GREGORIAN
BEGIN:VEVENT
DTSTART:20260506T133900
DTEND:20260506T133930
LOCATION:Gewerbepark 13, 8562 Mooskirchen
DTSTAMP:20260422T233755
SUMMARY:MyAuktion: Ablauf Artikel Nr. 957629 C-Vac kiz Economy 12. SKCV.01 Zubehör
URL;VALUE=URI:https://www.myauktion.com/versteigerung7660-position2443470-c-vac-kiz-economy-12-skcv01-zubehoer.php
DESCRIPTION:
UID:myauktion-7660-2443470
BEGIN:VALARM
ACTION:DISPLAY
DESCRIPTION:
TRIGGER:-PT10M
END:VALARM
END:VEVENT
END:VCALENDAR