BEGIN:VCALENDAR
VERSION:2.0
PRODID:-//Goldgrube//myauktion.com//AT
CALSCALE:GREGORIAN
BEGIN:VEVENT
DTSTART:20260506T155600
DTEND:20260506T155630
LOCATION:Gewerbepark 13, 8562 Mooskirchen
DTSTAMP:20260423T041111
SUMMARY:MyAuktion: Ablauf Artikel Nr. 958418 Schaper Healthcare Schapfix Collar Soft Model SC054 Größe L/8cm Schwarz
URL;VALUE=URI:https://www.myauktion.com/versteigerung7660-position2443475-schaper-healthcare-schapfix-collar-soft-model-sc054-groesse-l-8cm-schwarz.php
DESCRIPTION:
UID:myauktion-7660-2443475
BEGIN:VALARM
ACTION:DISPLAY
DESCRIPTION:
TRIGGER:-PT10M
END:VALARM
END:VEVENT
END:VCALENDAR