BEGIN:VCALENDAR
VERSION:2.0
PRODID:-//Goldgrube//myauktion.com//AT
CALSCALE:GREGORIAN
BEGIN:VEVENT
DTSTART:20260506T130700
DTEND:20260506T130730
LOCATION:Gewerbepark 13, 8562 Mooskirchen
DTSTAMP:20260422T233756
SUMMARY:MyAuktion: Ablauf Artikel Nr. 957031 Actimove Gehsohle für Star- und Stützverbände S
URL;VALUE=URI:https://www.myauktion.com/versteigerung7660-position2443480-actimove-gehsohle-fuer-star-und-stuetzverbaende-s.php
DESCRIPTION:MHD 16.07.2030 
UID:myauktion-7660-2443480
BEGIN:VALARM
ACTION:DISPLAY
DESCRIPTION:MHD 16.07.2030 
TRIGGER:-PT10M
END:VALARM
END:VEVENT
END:VCALENDAR