BEGIN:VCALENDAR
VERSION:2.0
PRODID:-//Goldgrube//myauktion.com//AT
CALSCALE:GREGORIAN
BEGIN:VEVENT
DTSTART:20260506T152400
DTEND:20260506T152430
LOCATION:Gewerbepark 13, 8562 Mooskirchen
DTSTAMP:20260423T002504
SUMMARY:MyAuktion: Ablauf Artikel Nr. 958059 Schaper Schapfix Collar soft S / 6cm schwarz 
URL;VALUE=URI:https://www.myauktion.com/versteigerung7660-position2443487-schaper-schapfix-collar-soft-s---6cm-schwarz.php
DESCRIPTION:
UID:myauktion-7660-2443487
BEGIN:VALARM
ACTION:DISPLAY
DESCRIPTION:
TRIGGER:-PT10M
END:VALARM
END:VEVENT
END:VCALENDAR