BEGIN:VCALENDAR
VERSION:2.0
PRODID:-//Goldgrube//myauktion.com//AT
CALSCALE:GREGORIAN
BEGIN:VEVENT
DTSTART:20260506T090300
DTEND:20260506T090330
LOCATION:Gewerbepark 13, 8562 Mooskirchen
DTSTAMP:20260423T011951
SUMMARY:MyAuktion: Ablauf Artikel Nr. 956929 Bauer S23 X-Skate Eislaufschuhe 
URL;VALUE=URI:https://www.myauktion.com/versteigerung7664-position2443509-bauer-s23-x-skate-eislaufschuhe.php
DESCRIPTION:Gr. 6.0 
UID:myauktion-7664-2443509
BEGIN:VALARM
ACTION:DISPLAY
DESCRIPTION:Gr. 6.0 
TRIGGER:-PT10M
END:VALARM
END:VEVENT
END:VCALENDAR