BEGIN:VCALENDAR
VERSION:2.0
PRODID:-//Goldgrube//myauktion.com//AT
CALSCALE:GREGORIAN
BEGIN:VEVENT
DTSTART:20260506T090600
DTEND:20260506T090630
LOCATION:Gewerbepark 13, 8562 Mooskirchen
DTSTAMP:20260423T011957
SUMMARY:MyAuktion: Ablauf Artikel Nr. 956932 Bauer Radiant Heated Skate Eislaufschuhe 
URL;VALUE=URI:https://www.myauktion.com/versteigerung7664-position2443512-bauer-radiant-heated-skate-eislaufschuhe.php
DESCRIPTION:Gr. 40,5
UID:myauktion-7664-2443512
BEGIN:VALARM
ACTION:DISPLAY
DESCRIPTION:Gr. 40,5
TRIGGER:-PT10M
END:VALARM
END:VEVENT
END:VCALENDAR