BEGIN:VCALENDAR
VERSION:2.0
PRODID:-//Goldgrube//myauktion.com//AT
CALSCALE:GREGORIAN
BEGIN:VEVENT
DTSTART:20260506T090700
DTEND:20260506T090730
LOCATION:Gewerbepark 13, 8562 Mooskirchen
DTSTAMP:20260423T011958
SUMMARY:MyAuktion: Ablauf Artikel Nr. 956933 Bauer S21 X-LS Skate Eislaufschuhe 
URL;VALUE=URI:https://www.myauktion.com/versteigerung7664-position2443513-bauer-s21-x-ls-skate-eislaufschuhe.php
DESCRIPTION:Gr. 4.0 
UID:myauktion-7664-2443513
BEGIN:VALARM
ACTION:DISPLAY
DESCRIPTION:Gr. 4.0 
TRIGGER:-PT10M
END:VALARM
END:VEVENT
END:VCALENDAR