BEGIN:VCALENDAR
VERSION:2.0
PRODID:-//Goldgrube//myauktion.com//AT
CALSCALE:GREGORIAN
BEGIN:VEVENT
DTSTART:20260506T090800
DTEND:20260506T090830
LOCATION:Gewerbepark 13, 8562 Mooskirchen
DTSTAMP:20260423T011955
SUMMARY:MyAuktion: Ablauf Artikel Nr. 956934 Bauer S23 X Skate Eislaufschuhe 
URL;VALUE=URI:https://www.myauktion.com/versteigerung7664-position2443514-bauer-s23-x-skate-eislaufschuhe.php
DESCRIPTION:Gr. 5,5 
UID:myauktion-7664-2443514
BEGIN:VALARM
ACTION:DISPLAY
DESCRIPTION:Gr. 5,5 
TRIGGER:-PT10M
END:VALARM
END:VEVENT
END:VCALENDAR