BEGIN:VCALENDAR
VERSION:2.0
PRODID:-//Goldgrube//myauktion.com//AT
CALSCALE:GREGORIAN
BEGIN:VEVENT
DTSTART:20260506T090900
DTEND:20260506T090930
LOCATION:Gewerbepark 13, 8562 Mooskirchen
DTSTAMP:20260423T011956
SUMMARY:MyAuktion: Ablauf Artikel Nr. 956935 Bauer Radiant Heated Skate SR S25 Eislaufschuhe 
URL;VALUE=URI:https://www.myauktion.com/versteigerung7664-position2443515-bauer-radiant-heated-skate-sr-s25-eislaufschuhe.php
DESCRIPTION:Gr. 7 
UID:myauktion-7664-2443515
BEGIN:VALARM
ACTION:DISPLAY
DESCRIPTION:Gr. 7 
TRIGGER:-PT10M
END:VALARM
END:VEVENT
END:VCALENDAR