BEGIN:VCALENDAR
VERSION:2.0
PRODID:-//Goldgrube//myauktion.com//AT
CALSCALE:GREGORIAN
BEGIN:VEVENT
DTSTART:20260506T091000
DTEND:20260506T091030
LOCATION:Gewerbepark 13, 8562 Mooskirchen
DTSTAMP:20260423T011958
SUMMARY:MyAuktion: Ablauf Artikel Nr. 956936 Bauer Colorado 2.0 Eislaufschuhe 
URL;VALUE=URI:https://www.myauktion.com/versteigerung7664-position2443516-bauer-colorado-20-eislaufschuhe.php
DESCRIPTION:Gr. 44,5 
UID:myauktion-7664-2443516
BEGIN:VALARM
ACTION:DISPLAY
DESCRIPTION:Gr. 44,5 
TRIGGER:-PT10M
END:VALARM
END:VEVENT
END:VCALENDAR