BEGIN:VCALENDAR
VERSION:2.0
PRODID:-//Goldgrube//myauktion.com//AT
CALSCALE:GREGORIAN
BEGIN:VEVENT
DTSTART:20260506T091200
DTEND:20260506T091230
LOCATION:Gewerbepark 13, 8562 Mooskirchen
DTSTAMP:20260423T011957
SUMMARY:MyAuktion: Ablauf Artikel Nr. 956938 Bauer S23 X-Skate Eislaufschuhe 
URL;VALUE=URI:https://www.myauktion.com/versteigerung7664-position2443518-bauer-s23-x-skate-eislaufschuhe.php
DESCRIPTION:Gr. 5,5 
UID:myauktion-7664-2443518
BEGIN:VALARM
ACTION:DISPLAY
DESCRIPTION:Gr. 5,5 
TRIGGER:-PT10M
END:VALARM
END:VEVENT
END:VCALENDAR