BEGIN:VCALENDAR
VERSION:2.0
PRODID:-//Goldgrube//myauktion.com//AT
CALSCALE:GREGORIAN
BEGIN:VEVENT
DTSTART:20260506T091400
DTEND:20260506T091430
LOCATION:Gewerbepark 13, 8562 Mooskirchen
DTSTAMP:20260423T011957
SUMMARY:MyAuktion: Ablauf Artikel Nr. 956940 Bauer Supreme M30 Skate SR S24 Eislaufschuhe 
URL;VALUE=URI:https://www.myauktion.com/versteigerung7664-position2443520-bauer-supreme-m30-skate-sr-s24-eislaufschuhe.php
DESCRIPTION:Gr. 9,5
UID:myauktion-7664-2443520
BEGIN:VALARM
ACTION:DISPLAY
DESCRIPTION:Gr. 9,5
TRIGGER:-PT10M
END:VALARM
END:VEVENT
END:VCALENDAR