BEGIN:VCALENDAR
VERSION:2.0
PRODID:-//Goldgrube//myauktion.com//AT
CALSCALE:GREGORIAN
BEGIN:VEVENT
DTSTART:20260506T091500
DTEND:20260506T091530
LOCATION:Gewerbepark 13, 8562 Mooskirchen
DTSTAMP:20260423T011953
SUMMARY:MyAuktion: Ablauf Artikel Nr. 956941 Bauer Supreme M30 Skate SR S24 Eislaufschuhe 
URL;VALUE=URI:https://www.myauktion.com/versteigerung7664-position2443521-bauer-supreme-m30-skate-sr-s24-eislaufschuhe.php
DESCRIPTION:Gr. 7.0 
UID:myauktion-7664-2443521
BEGIN:VALARM
ACTION:DISPLAY
DESCRIPTION:Gr. 7.0 
TRIGGER:-PT10M
END:VALARM
END:VEVENT
END:VCALENDAR