BEGIN:VCALENDAR
VERSION:2.0
PRODID:-//Goldgrube//myauktion.com//AT
CALSCALE:GREGORIAN
BEGIN:VEVENT
DTSTART:20260506T091600
DTEND:20260506T091630
LOCATION:Gewerbepark 13, 8562 Mooskirchen
DTSTAMP:20260423T012001
SUMMARY:MyAuktion: Ablauf Artikel Nr. 956942 Bauer S24 Supreme M40 Skate-SR Eislaufschuhe 
URL;VALUE=URI:https://www.myauktion.com/versteigerung7664-position2443522-bauer-s24-supreme-m40-skate-sr-eislaufschuhe.php
DESCRIPTION:Gr. 8,5 Fit 2 
UID:myauktion-7664-2443522
BEGIN:VALARM
ACTION:DISPLAY
DESCRIPTION:Gr. 8,5 Fit 2 
TRIGGER:-PT10M
END:VALARM
END:VEVENT
END:VCALENDAR