BEGIN:VCALENDAR
VERSION:2.0
PRODID:-//Goldgrube//myauktion.com//AT
CALSCALE:GREGORIAN
BEGIN:VEVENT
DTSTART:20260506T091700
DTEND:20260506T091730
LOCATION:Gewerbepark 13, 8562 Mooskirchen
DTSTAMP:20260423T011959
SUMMARY:MyAuktion: Ablauf Artikel Nr. 956943 Bauer Whistler 2.0 Eislaufschuhe 
URL;VALUE=URI:https://www.myauktion.com/versteigerung7664-position2443523-bauer-whistler-20-eislaufschuhe.php
DESCRIPTION:Gr. 42 
UID:myauktion-7664-2443523
BEGIN:VALARM
ACTION:DISPLAY
DESCRIPTION:Gr. 42 
TRIGGER:-PT10M
END:VALARM
END:VEVENT
END:VCALENDAR