BEGIN:VCALENDAR
VERSION:2.0
PRODID:-//Goldgrube//myauktion.com//AT
CALSCALE:GREGORIAN
BEGIN:VEVENT
DTSTART:20260506T091800
DTEND:20260506T091830
LOCATION:Gewerbepark 13, 8562 Mooskirchen
DTSTAMP:20260423T011957
SUMMARY:MyAuktion: Ablauf Artikel Nr. 956944 Bauer Colorado 2.0 Eislaufschuhe 
URL;VALUE=URI:https://www.myauktion.com/versteigerung7664-position2443524-bauer-colorado-20-eislaufschuhe.php
DESCRIPTION:Gr. 43 
UID:myauktion-7664-2443524
BEGIN:VALARM
ACTION:DISPLAY
DESCRIPTION:Gr. 43 
TRIGGER:-PT10M
END:VALARM
END:VEVENT
END:VCALENDAR