BEGIN:VCALENDAR
VERSION:2.0
PRODID:-//Goldgrube//myauktion.com//AT
CALSCALE:GREGORIAN
BEGIN:VEVENT
DTSTART:20260506T091900
DTEND:20260506T091930
LOCATION:Gewerbepark 13, 8562 Mooskirchen
DTSTAMP:20260423T011955
SUMMARY:MyAuktion: Ablauf Artikel Nr. 956945 Bauer Whistler 2.0 Eislaufschuhe 
URL;VALUE=URI:https://www.myauktion.com/versteigerung7664-position2443525-bauer-whistler-20-eislaufschuhe.php
DESCRIPTION:Gr. 44,5 
UID:myauktion-7664-2443525
BEGIN:VALARM
ACTION:DISPLAY
DESCRIPTION:Gr. 44,5 
TRIGGER:-PT10M
END:VALARM
END:VEVENT
END:VCALENDAR