BEGIN:VCALENDAR
VERSION:2.0
PRODID:-//Goldgrube//myauktion.com//AT
CALSCALE:GREGORIAN
BEGIN:VEVENT
DTSTART:20260505T130000
DTEND:20260505T130030
LOCATION:Gewerbepark 13, 8562 Mooskirchen
DTSTAMP:20260421T225103
SUMMARY:MyAuktion: Ablauf Artikel Nr. 961711 XS Chaise Lounge Kissenbezug
URL;VALUE=URI:https://www.myauktion.com/versteigerung7653-position2443527-xs-chaise-lounge-kissenbezug.php
DESCRIPTION:Maße: W135-165 cm, D95-115 cm
UID:myauktion-7653-2443527
BEGIN:VALARM
ACTION:DISPLAY
DESCRIPTION:Maße: W135-165 cm, D95-115 cm
TRIGGER:-PT10M
END:VALARM
END:VEVENT
END:VCALENDAR