BEGIN:VCALENDAR
VERSION:2.0
PRODID:-//Goldgrube//myauktion.com//AT
CALSCALE:GREGORIAN
BEGIN:VEVENT
DTSTART:20260505T130100
DTEND:20260505T130130
LOCATION:Gewerbepark 13, 8562 Mooskirchen
DTSTAMP:20260421T225113
SUMMARY:MyAuktion: Ablauf Artikel Nr. 961712 adidas Football Aeroready Socken
URL;VALUE=URI:https://www.myauktion.com/versteigerung7653-position2443528-adidas-football-aeroready-socken.php
DESCRIPTION:Gr. 31-33
UID:myauktion-7653-2443528
BEGIN:VALARM
ACTION:DISPLAY
DESCRIPTION:Gr. 31-33
TRIGGER:-PT10M
END:VALARM
END:VEVENT
END:VCALENDAR