BEGIN:VCALENDAR
VERSION:2.0
PRODID:-//Goldgrube//myauktion.com//AT
CALSCALE:GREGORIAN
BEGIN:VEVENT
DTSTART:20260505T130200
DTEND:20260505T130230
LOCATION:Gewerbepark 13, 8562 Mooskirchen
DTSTAMP:20260422T003430
SUMMARY:MyAuktion: Ablauf Artikel Nr. 961713 Fingerhandschuhe
URL;VALUE=URI:https://www.myauktion.com/versteigerung7653-position2443529-fingerhandschuhe.php
DESCRIPTION:One size
UID:myauktion-7653-2443529
BEGIN:VALARM
ACTION:DISPLAY
DESCRIPTION:One size
TRIGGER:-PT10M
END:VALARM
END:VEVENT
END:VCALENDAR