BEGIN:VCALENDAR
VERSION:2.0
PRODID:-//Goldgrube//myauktion.com//AT
CALSCALE:GREGORIAN
BEGIN:VEVENT
DTSTART:20260505T130300
DTEND:20260505T130330
LOCATION:Gewerbepark 13, 8562 Mooskirchen
DTSTAMP:20260422T003433
SUMMARY:MyAuktion: Ablauf Artikel Nr. 961718 Plüschschwein
URL;VALUE=URI:https://www.myauktion.com/versteigerung7653-position2443530-plueschschwein.php
DESCRIPTION:Ca. 24cm
UID:myauktion-7653-2443530
BEGIN:VALARM
ACTION:DISPLAY
DESCRIPTION:Ca. 24cm
TRIGGER:-PT10M
END:VALARM
END:VEVENT
END:VCALENDAR