BEGIN:VCALENDAR
VERSION:2.0
PRODID:-//Goldgrube//myauktion.com//AT
CALSCALE:GREGORIAN
BEGIN:VEVENT
DTSTART:20260505T130400
DTEND:20260505T130430
LOCATION:Gewerbepark 13, 8562 Mooskirchen
DTSTAMP:20260421T225115
SUMMARY:MyAuktion: Ablauf Artikel Nr. 961719 spira Kissenhülle mit Muster
URL;VALUE=URI:https://www.myauktion.com/versteigerung7653-position2443531-spira-kissenhuelle-mit-muster.php
DESCRIPTION:Gr. 50x50cm
UID:myauktion-7653-2443531
BEGIN:VALARM
ACTION:DISPLAY
DESCRIPTION:Gr. 50x50cm
TRIGGER:-PT10M
END:VALARM
END:VEVENT
END:VCALENDAR