BEGIN:VCALENDAR
VERSION:2.0
PRODID:-//Goldgrube//myauktion.com//AT
CALSCALE:GREGORIAN
BEGIN:VEVENT
DTSTART:20260505T130600
DTEND:20260505T130630
LOCATION:Gewerbepark 13, 8562 Mooskirchen
DTSTAMP:20260422T003432
SUMMARY:MyAuktion: Ablauf Artikel Nr. 961722 Sofabezug
URL;VALUE=URI:https://www.myauktion.com/versteigerung7653-position2443533-sofabezug.php
DESCRIPTION:Maße: W 95-115 cm, D 45-65 cm
UID:myauktion-7653-2443533
BEGIN:VALARM
ACTION:DISPLAY
DESCRIPTION:Maße: W 95-115 cm, D 45-65 cm
TRIGGER:-PT10M
END:VALARM
END:VEVENT
END:VCALENDAR