BEGIN:VCALENDAR
VERSION:2.0
PRODID:-//Goldgrube//myauktion.com//AT
CALSCALE:GREGORIAN
BEGIN:VEVENT
DTSTART:20260505T131000
DTEND:20260505T131030
LOCATION:Gewerbepark 13, 8562 Mooskirchen
DTSTAMP:20260422T003431
SUMMARY:MyAuktion: Ablauf Artikel Nr. 961735 Socken
URL;VALUE=URI:https://www.myauktion.com/versteigerung7653-position2443537-socken.php
DESCRIPTION:Grösse ist nicht ersichtlich
UID:myauktion-7653-2443537
BEGIN:VALARM
ACTION:DISPLAY
DESCRIPTION:Grösse ist nicht ersichtlich
TRIGGER:-PT10M
END:VALARM
END:VEVENT
END:VCALENDAR