BEGIN:VCALENDAR
VERSION:2.0
PRODID:-//Goldgrube//myauktion.com//AT
CALSCALE:GREGORIAN
BEGIN:VEVENT
DTSTART:20260505T131100
DTEND:20260505T131130
LOCATION:Gewerbepark 13, 8562 Mooskirchen
DTSTAMP:20260422T002437
SUMMARY:MyAuktion: Ablauf Artikel Nr. 961736 Decke Patchwork-Design
URL;VALUE=URI:https://www.myauktion.com/versteigerung7653-position2443538-decke-patchwork-design.php
DESCRIPTION:Ca. 145x90cm
UID:myauktion-7653-2443538
BEGIN:VALARM
ACTION:DISPLAY
DESCRIPTION:Ca. 145x90cm
TRIGGER:-PT10M
END:VALARM
END:VEVENT
END:VCALENDAR