BEGIN:VCALENDAR
VERSION:2.0
PRODID:-//Goldgrube//myauktion.com//AT
CALSCALE:GREGORIAN
BEGIN:VEVENT
DTSTART:20260505T131200
DTEND:20260505T131230
LOCATION:Gewerbepark 13, 8562 Mooskirchen
DTSTAMP:20260422T003430
SUMMARY:MyAuktion: Ablauf Artikel Nr. 961737 Boots
URL;VALUE=URI:https://www.myauktion.com/versteigerung7653-position2443539-boots.php
DESCRIPTION:Gr. 39
UID:myauktion-7653-2443539
BEGIN:VALARM
ACTION:DISPLAY
DESCRIPTION:Gr. 39
TRIGGER:-PT10M
END:VALARM
END:VEVENT
END:VCALENDAR