BEGIN:VCALENDAR
VERSION:2.0
PRODID:-//Goldgrube//myauktion.com//AT
CALSCALE:GREGORIAN
BEGIN:VEVENT
DTSTART:20260505T131300
DTEND:20260505T131330
LOCATION:Gewerbepark 13, 8562 Mooskirchen
DTSTAMP:20260421T225114
SUMMARY:MyAuktion: Ablauf Artikel Nr. 961738 Anna Field Umhängetasche
URL;VALUE=URI:https://www.myauktion.com/versteigerung7653-position2443540-anna-field-umhaengetasche.php
DESCRIPTION:Farbe: schwarz. Größe: One Size. Ca. 25x12cm
UID:myauktion-7653-2443540
BEGIN:VALARM
ACTION:DISPLAY
DESCRIPTION:Farbe: schwarz. Größe: One Size. Ca. 25x12cm
TRIGGER:-PT10M
END:VALARM
END:VEVENT
END:VCALENDAR