BEGIN:VCALENDAR
VERSION:2.0
PRODID:-//Goldgrube//myauktion.com//AT
CALSCALE:GREGORIAN
BEGIN:VEVENT
DTSTART:20260505T131400
DTEND:20260505T131430
LOCATION:Gewerbepark 13, 8562 Mooskirchen
DTSTAMP:20260422T003432
SUMMARY:MyAuktion: Ablauf Artikel Nr. 961740 Handler Hut Grau
URL;VALUE=URI:https://www.myauktion.com/versteigerung7653-position2443541-handler-hut-grau.php
DESCRIPTION:100% Wolle. Größe: 60
UID:myauktion-7653-2443541
BEGIN:VALARM
ACTION:DISPLAY
DESCRIPTION:100% Wolle. Größe: 60
TRIGGER:-PT10M
END:VALARM
END:VEVENT
END:VCALENDAR