BEGIN:VCALENDAR
VERSION:2.0
PRODID:-//Goldgrube//myauktion.com//AT
CALSCALE:GREGORIAN
BEGIN:VEVENT
DTSTART:20260505T131500
DTEND:20260505T131530
LOCATION:Gewerbepark 13, 8562 Mooskirchen
DTSTAMP:20260422T003429
SUMMARY:MyAuktion: Ablauf Artikel Nr. 961741 Handler Hut 100% Wolle
URL;VALUE=URI:https://www.myauktion.com/versteigerung7653-position2443542-handler-hut-100-wolle.php
DESCRIPTION:Material: 100% Wolle. Gr. 60
UID:myauktion-7653-2443542
BEGIN:VALARM
ACTION:DISPLAY
DESCRIPTION:Material: 100% Wolle. Gr. 60
TRIGGER:-PT10M
END:VALARM
END:VEVENT
END:VCALENDAR