BEGIN:VCALENDAR
VERSION:2.0
PRODID:-//Goldgrube//myauktion.com//AT
CALSCALE:GREGORIAN
BEGIN:VEVENT
DTSTART:20260505T131600
DTEND:20260505T131630
LOCATION:Gewerbepark 13, 8562 Mooskirchen
DTSTAMP:20260421T225105
SUMMARY:MyAuktion: Ablauf Artikel Nr. 961742 Handler Hut mit braunem Band
URL;VALUE=URI:https://www.myauktion.com/versteigerung7653-position2443543-handler-hut-mit-braunem-band.php
DESCRIPTION:Material: 100% Wolle
Gr 57
UID:myauktion-7653-2443543
BEGIN:VALARM
ACTION:DISPLAY
DESCRIPTION:Material: 100% Wolle
Gr 57
TRIGGER:-PT10M
END:VALARM
END:VEVENT
END:VCALENDAR