BEGIN:VCALENDAR
VERSION:2.0
PRODID:-//Goldgrube//myauktion.com//AT
CALSCALE:GREGORIAN
BEGIN:VEVENT
DTSTART:20260505T131800
DTEND:20260505T131830
LOCATION:Gewerbepark 13, 8562 Mooskirchen
DTSTAMP:20260421T225116
SUMMARY:MyAuktion: Ablauf Artikel Nr. 961931 Zadig&Voltaire stoff-Hose Größe 34
URL;VALUE=URI:https://www.myauktion.com/versteigerung7653-position2443545-zadig-voltaire-stoff-hose-groesse-34.php
DESCRIPTION:
UID:myauktion-7653-2443545
BEGIN:VALARM
ACTION:DISPLAY
DESCRIPTION:
TRIGGER:-PT10M
END:VALARM
END:VEVENT
END:VCALENDAR