BEGIN:VCALENDAR
VERSION:2.0
PRODID:-//Goldgrube//myauktion.com//AT
CALSCALE:GREGORIAN
BEGIN:VEVENT
DTSTART:20260505T132500
DTEND:20260505T132530
LOCATION:Gewerbepark 13, 8562 Mooskirchen
DTSTAMP:20260421T225115
SUMMARY:MyAuktion: Ablauf Artikel Nr. 961945 Silver Plated Anhänger Windmühle
URL;VALUE=URI:https://www.myauktion.com/versteigerung7653-position2443552-silver-plated-anhaenger-windmuehle.php
DESCRIPTION:
UID:myauktion-7653-2443552
BEGIN:VALARM
ACTION:DISPLAY
DESCRIPTION:
TRIGGER:-PT10M
END:VALARM
END:VEVENT
END:VCALENDAR