BEGIN:VCALENDAR
VERSION:2.0
PRODID:-//Goldgrube//myauktion.com//AT
CALSCALE:GREGORIAN
BEGIN:VEVENT
DTSTART:20260505T132900
DTEND:20260505T132930
LOCATION:Gewerbepark 13, 8562 Mooskirchen
DTSTAMP:20260422T003430
SUMMARY:MyAuktion: Ablauf Artikel Nr. 961953 Drachenrolle
URL;VALUE=URI:https://www.myauktion.com/versteigerung7653-position2443556-drachenrolle.php
DESCRIPTION:
UID:myauktion-7653-2443556
BEGIN:VALARM
ACTION:DISPLAY
DESCRIPTION:
TRIGGER:-PT10M
END:VALARM
END:VEVENT
END:VCALENDAR