BEGIN:VCALENDAR
VERSION:2.0
PRODID:-//Goldgrube//myauktion.com//AT
CALSCALE:GREGORIAN
BEGIN:VEVENT
DTSTART:20260505T133200
DTEND:20260505T133230
LOCATION:Gewerbepark 13, 8562 Mooskirchen
DTSTAMP:20260421T225107
SUMMARY:MyAuktion: Ablauf Artikel Nr. 961960 Staubbeutel 24 Staubsaugerbeutel 10x
URL;VALUE=URI:https://www.myauktion.com/versteigerung7653-position2443559-staubbeutel-24-staubsaugerbeutel-10x.php
DESCRIPTION:Lieferumfang: 10 Staubsaugerbeutel und 1 Filter
UID:myauktion-7653-2443559
BEGIN:VALARM
ACTION:DISPLAY
DESCRIPTION:Lieferumfang: 10 Staubsaugerbeutel und 1 Filter
TRIGGER:-PT10M
END:VALARM
END:VEVENT
END:VCALENDAR