BEGIN:VCALENDAR
VERSION:2.0
PRODID:-//Goldgrube//myauktion.com//AT
CALSCALE:GREGORIAN
BEGIN:VEVENT
DTSTART:20260505T133300
DTEND:20260505T133330
LOCATION:Gewerbepark 13, 8562 Mooskirchen
DTSTAMP:20260421T225107
SUMMARY:MyAuktion: Ablauf Artikel Nr. 961961 Nilfisk Staubbeutel 5 Stück + Vorfilter
URL;VALUE=URI:https://www.myauktion.com/versteigerung7653-position2443560-nilfisk-staubbeutel-5-stueck-vorfilter.php
DESCRIPTION:Verpackung Beschädigt
UID:myauktion-7653-2443560
BEGIN:VALARM
ACTION:DISPLAY
DESCRIPTION:Verpackung Beschädigt
TRIGGER:-PT10M
END:VALARM
END:VEVENT
END:VCALENDAR