BEGIN:VCALENDAR
VERSION:2.0
PRODID:-//Goldgrube//myauktion.com//AT
CALSCALE:GREGORIAN
BEGIN:VEVENT
DTSTART:20260505T135200
DTEND:20260505T135230
LOCATION:Gewerbepark 13, 8562 Mooskirchen
DTSTAMP:20260422T003432
SUMMARY:MyAuktion: Ablauf Artikel Nr. 963232 Gürtel Größe 75
URL;VALUE=URI:https://www.myauktion.com/versteigerung7653-position2443565-guertel-groesse-75.php
DESCRIPTION:
UID:myauktion-7653-2443565
BEGIN:VALARM
ACTION:DISPLAY
DESCRIPTION:
TRIGGER:-PT10M
END:VALARM
END:VEVENT
END:VCALENDAR