BEGIN:VCALENDAR
VERSION:2.0
PRODID:-//Goldgrube//myauktion.com//AT
CALSCALE:GREGORIAN
BEGIN:VEVENT
DTSTART:20260505T135300
DTEND:20260505T135330
LOCATION:Gewerbepark 13, 8562 Mooskirchen
DTSTAMP:20260422T003430
SUMMARY:MyAuktion: Ablauf Artikel Nr. 963233 Duschvorhangset mit Ringen ca 173cm
URL;VALUE=URI:https://www.myauktion.com/versteigerung7653-position2443566-duschvorhangset-mit-ringen-ca-173cm.php
DESCRIPTION:
UID:myauktion-7653-2443566
BEGIN:VALARM
ACTION:DISPLAY
DESCRIPTION:
TRIGGER:-PT10M
END:VALARM
END:VEVENT
END:VCALENDAR