BEGIN:VCALENDAR
VERSION:2.0
PRODID:-//Goldgrube//myauktion.com//AT
CALSCALE:GREGORIAN
BEGIN:VEVENT
DTSTART:20260505T135600
DTEND:20260505T135630
LOCATION:Gewerbepark 13, 8562 Mooskirchen
DTSTAMP:20260421T225114
SUMMARY:MyAuktion: Ablauf Artikel Nr. 963697 3-Seater Bezug Gelb W 145-185cm, D 45-65cm
URL;VALUE=URI:https://www.myauktion.com/versteigerung7653-position2443569-3-seater-bezug-gelb-w-145-185cm-d-45-65cm.php
DESCRIPTION:
UID:myauktion-7653-2443569
BEGIN:VALARM
ACTION:DISPLAY
DESCRIPTION:
TRIGGER:-PT10M
END:VALARM
END:VEVENT
END:VCALENDAR