BEGIN:VCALENDAR
VERSION:2.0
PRODID:-//Goldgrube//myauktion.com//AT
CALSCALE:GREGORIAN
BEGIN:VEVENT
DTSTART:20260505T135700
DTEND:20260505T135730
LOCATION:Gewerbepark 13, 8562 Mooskirchen
DTSTAMP:20260421T225110
SUMMARY:MyAuktion: Ablauf Artikel Nr. 963698 Overknees Stiefel
URL;VALUE=URI:https://www.myauktion.com/versteigerung7653-position2443570-overknees-stiefel.php
DESCRIPTION:Gr. 6
UID:myauktion-7653-2443570
BEGIN:VALARM
ACTION:DISPLAY
DESCRIPTION:Gr. 6
TRIGGER:-PT10M
END:VALARM
END:VEVENT
END:VCALENDAR